BEGIN:VCALENDAR
VERSION:2.0
PRODID:-//King&#039;s Students&#039; Union - ECPv6.10.3//NONSGML v1.0//EN
CALSCALE:GREGORIAN
METHOD:PUBLISH
X-WR-CALNAME:King&#039;s Students&#039; Union
X-ORIGINAL-URL:https://ksu.ca
X-WR-CALDESC:Events for King&#039;s Students&#039; Union
REFRESH-INTERVAL;VALUE=DURATION:PT1H
X-Robots-Tag:noindex
X-PUBLISHED-TTL:PT1H
BEGIN:VTIMEZONE
TZID:America/Halifax
BEGIN:DAYLIGHT
TZOFFSETFROM:-0400
TZOFFSETTO:-0300
TZNAME:ADT
DTSTART:20260308T060000
END:DAYLIGHT
BEGIN:STANDARD
TZOFFSETFROM:-0300
TZOFFSETTO:-0400
TZNAME:AST
DTSTART:20261101T050000
END:STANDARD
END:VTIMEZONE
BEGIN:VEVENT
DTSTART;TZID=America/Halifax:20260101T113000
DTEND;TZID=America/Halifax:20260101T130000
DTSTAMP:20260423T202106
CREATED:20251015T140540Z
LAST-MODIFIED:20251015T140540Z
UID:3975-1767267000-1767272400@ksu.ca
SUMMARY:President (Ellie Anderson) Office Hours
DESCRIPTION:Office Hours of the King’s Student Union President Ellie Anderson. Drop by to talk about anything or ask questions! If you can’t make it to office hours you can always send an email to president@ksu.ca 
URL:https://ksu.ca/event/president-ellie-anderson-office-hours-2/2026-01-01/
END:VEVENT
BEGIN:VEVENT
DTSTART;TZID=America/Halifax:20260101T120000
DTEND;TZID=America/Halifax:20260101T150000
DTSTAMP:20260423T202106
CREATED:20251015T141112Z
LAST-MODIFIED:20251015T141511Z
UID:4021-1767268800-1767279600@ksu.ca
SUMMARY:Communications Vice President (Gale VanAmburg) Office Hours
DESCRIPTION:Office Hours of the King’s Student Union Communications Vice President Gale VanAmburg. Drop by to talk about anything or ask questions! If you can’t make it to office hours you can always send an email to cvp@ksu.ca 
URL:https://ksu.ca/event/communications-vice-president-gale-vanamburg-office-hours-2/2026-01-01/
END:VEVENT
BEGIN:VEVENT
DTSTART;TZID=America/Halifax:20260101T130000
DTEND;TZID=America/Halifax:20260101T141500
DTSTAMP:20260423T202106
CREATED:20251015T141345Z
LAST-MODIFIED:20251015T141345Z
UID:4033-1767272400-1767276900@ksu.ca
SUMMARY:Chair (Michelle Day) Office Hours
DESCRIPTION:Office Hours of the King’s Student Union Chair Michelle Day. Drop by to talk about anything or ask questions! If you can’t make it to office hours you can always send an email to chair@ksu.ca 
URL:https://ksu.ca/event/chair-michelle-day-office-hours/2026-01-01/
END:VEVENT
END:VCALENDAR