BEGIN:VCALENDAR
VERSION:2.0
PRODID:-//King&#039;s Students&#039; Union - ECPv6.10.3//NONSGML v1.0//EN
CALSCALE:GREGORIAN
METHOD:PUBLISH
X-ORIGINAL-URL:https://ksu.ca
X-WR-CALDESC:Events for King&#039;s Students&#039; Union
REFRESH-INTERVAL;VALUE=DURATION:PT1H
X-Robots-Tag:noindex
X-PUBLISHED-TTL:PT1H
BEGIN:VTIMEZONE
TZID:America/Halifax
BEGIN:DAYLIGHT
TZOFFSETFROM:-0400
TZOFFSETTO:-0300
TZNAME:ADT
DTSTART:20250309T060000
END:DAYLIGHT
BEGIN:STANDARD
TZOFFSETFROM:-0300
TZOFFSETTO:-0400
TZNAME:AST
DTSTART:20251102T050000
END:STANDARD
END:VTIMEZONE
BEGIN:VEVENT
DTSTART;TZID=America/Halifax:20250912T200000
DTEND;TZID=America/Halifax:20250912T233000
DTSTAMP:20260422T061159
CREATED:20250907T201600Z
LAST-MODIFIED:20250907T202144Z
UID:3911-1757707200-1757719800@ksu.ca
SUMMARY:Just Dance Party!
DESCRIPTION:
URL:https://ksu.ca/event/just-dance-party/
LOCATION:Wardroom
CATEGORIES:The Wardy
END:VEVENT
BEGIN:VEVENT
DTSTART;TZID=America/Halifax:20250911T200000
DTEND;TZID=America/Halifax:20250911T233000
DTSTAMP:20260422T061159
CREATED:20250907T201516Z
LAST-MODIFIED:20250907T202405Z
UID:3910-1757620800-1757633400@ksu.ca
SUMMARY:Board Game Night @ The Wardy!
DESCRIPTION:
URL:https://ksu.ca/event/board-game-night/
LOCATION:Wardroom
CATEGORIES:The Wardy
END:VEVENT
BEGIN:VEVENT
DTSTART;TZID=America/Halifax:20250910T200000
DTEND;TZID=America/Halifax:20250910T223000
DTSTAMP:20260422T061159
CREATED:20250907T201320Z
LAST-MODIFIED:20250907T201719Z
UID:3909-1757534400-1757543400@ksu.ca
SUMMARY:Trivia with Leah
DESCRIPTION:
URL:https://ksu.ca/event/trivia-with-leah/
LOCATION:Wardroom
CATEGORIES:The Wardy
END:VEVENT
BEGIN:VEVENT
DTSTART;TZID=America/Halifax:20250909T200000
DTEND;TZID=America/Halifax:20250909T235900
DTSTAMP:20260422T061159
CREATED:20250907T201226Z
LAST-MODIFIED:20250907T202535Z
UID:3907-1757448000-1757462340@ksu.ca
SUMMARY:Bar Etiquette 101
DESCRIPTION:
URL:https://ksu.ca/event/bar-etiquette-101/
LOCATION:Wardroom
CATEGORIES:The Wardy
END:VEVENT
BEGIN:VEVENT
DTSTART;TZID=America/Halifax:20250403T200000
DTEND;TZID=America/Halifax:20250403T233000
DTSTAMP:20260422T061159
CREATED:20250331T215933Z
LAST-MODIFIED:20250331T220506Z
UID:3586-1743710400-1743723000@ksu.ca
SUMMARY:Oral Exam Study Night at the Wardy!
DESCRIPTION:
URL:https://ksu.ca/event/oral-exam-study-night-at-the-wardy/
CATEGORIES:The Wardy
END:VEVENT
BEGIN:VEVENT
DTSTART;TZID=America/Halifax:20250402T080000
DTEND;TZID=America/Halifax:20250402T233000
DTSTAMP:20260422T061159
CREATED:20250331T215826Z
LAST-MODIFIED:20250331T220518Z
UID:3585-1743580800-1743636600@ksu.ca
SUMMARY:Post AGM Karoke at the Wardy!
DESCRIPTION:
URL:https://ksu.ca/event/post-agm-karoke-at-the-wardy/
LOCATION:Wardroom
CATEGORIES:The Wardy
END:VEVENT
BEGIN:VEVENT
DTSTART;TZID=America/Halifax:20250401T200000
DTEND;TZID=America/Halifax:20250401T233000
DTSTAMP:20260422T061159
CREATED:20250331T215719Z
LAST-MODIFIED:20250331T220525Z
UID:3584-1743537600-1743550200@ksu.ca
SUMMARY:Clown Night at the Wardy!
DESCRIPTION:
URL:https://ksu.ca/event/clown-night-at-the-wardy/
LOCATION:Wardroom
CATEGORIES:The Wardy
END:VEVENT
BEGIN:VEVENT
DTSTART;TZID=America/Halifax:20250330T100000
DTEND;TZID=America/Halifax:20250330T120000
DTSTAMP:20260422T061159
CREATED:20250329T000105Z
LAST-MODIFIED:20250331T220534Z
UID:3563-1743328800-1743336000@ksu.ca
SUMMARY:KSU Council
DESCRIPTION:Biweekly KSU Council! Everyone is always welcome to attend.
URL:https://ksu.ca/event/ksu-council/
CATEGORIES:The Wardy
END:VEVENT
END:VCALENDAR